BEGIN:VCALENDAR
VERSION:2.0
PRODID:LFV Website-Kit
METHOD:PUBLISH
BEGIN:VEVENT
UID:lfv-2b936014-b694-40f8-87a8-aa26f3c4a744
LOCATION:
SUMMARY:Schwörmontagsfest
DESCRIPTION:Termin Link: https://feuerwehr-gerlenhofen.de/termine/schwormontagsfest-2/
URL:https://feuerwehr-gerlenhofen.de/termine/schwormontagsfest-2/
CLASS:PRIVATE
DTSTART;TZID=Europe/Berlin:20260720T150000
DTEND;TZID=Europe/Berlin:20260720T160000
DTSTAMP:20260424T140527Z
END:VEVENT
END:VCALENDAR